BEGIN:VCALENDAR
VERSION:2.0
PRODID:-//wp-events-plugin.com//7.2.3.1//EN
TZID:America/New_York
X-WR-TIMEZONE:America/New_York
BEGIN:VEVENT
UID:128@sealcoveautomuseum.org
DTSTART:20190427T170000Z
DTEND:20190427T193000Z
DTSTAMP:20190412T001520Z
URL:https://www.sealcoveautomuseum.org/events/beers-gears-4/
SUMMARY:BEERS & GEARS
DESCRIPTION:The museum is hosting a series of monthly Beers &amp\; Gears ga
 therings throughout the winter.\nCome in from the cold to hang out with us
  and your friends during the dark winter afternoons!\nBEER * SNACKS * GAME
 S * OPEN MIC\n5:00pm-6:30pm: Music by Big Tree (Bowen Swearsey &amp\; Jarl
 y Bobadilla)\n6:30pm-7:30pm: Community Jam\nFeaturing beer (Real Ale &amp\
 ; Cole Porter) from:\n\n$10 cover charge includes museum admission &amp\; 
 two drink tickets.\nFree for musicians participating in the open mic.\nThe
  bar will accept drink tickets and donations.\n
ATTACH;FMTTYPE=image/jpeg:https://www.sealcoveautomuseum.org/wp-content/up
 loads/2018/11/BeersGears_wide.jpg
CATEGORIES:Beers &amp; Gears
LOCATION:Seal Cove Auto Museum\, 1414 Tremont Road\, Seal Cove\, Maine\, 04
 674\, Mount Desert Island\, United States
GEO:44.3053826;-68.4044376
X-APPLE-STRUCTURED-LOCATION;VALUE=URI;X-ADDRESS=1414 Tremont Road\, Seal Co
 ve\, Maine\, 04674\, Mount Desert Island\, United States;X-APPLE-RADIUS=10
 0;X-TITLE=Seal Cove Auto Museum:geo:44.3053826,-68.4044376
END:VEVENT
END:VCALENDAR