BEGIN:VCALENDAR
VERSION:2.0
PRODID:-//wp-events-plugin.com//7.2.3.1//EN
TZID:America/New_York
X-WR-TIMEZONE:America/New_York
BEGIN:VEVENT
UID:121@sealcoveautomuseum.org
DTSTART;TZID=America/New_York:20190824T100000
DTEND;TZID=America/New_York:20190824T210000
DTSTAMP:20190804T005815Z
URL:https://www.sealcoveautomuseum.org/events/car-b-que-2019/
SUMMARY:CAR-B-QUE
DESCRIPTION:Live music from the Souled Out Band\, Blake Rosso Band and Dann
 y Harper Band\; barbeque and other food available for purchase from Nostra
 no and Wing Dingahs all day\; a car show from 10 a.m. to 4 p.m.\; plus ent
 ry to the museum for tours\, activities for kids\, and rides in antique ca
 rs weather permitting. Tons of fun packed into one super day!\n\nAdmission
  tickets are $10 for museum members and $15 for non-members and include al
 l music\, tours\, rides and activities. Food may be purchased on site all 
 day. Buy your tickets HERE.  Thanks to our Sponsor\, Bar Harbor Bank &amp
 \; Trust: \n\n&nbsp\;\n\nHave a great car you'd like to show off as part o
 f the car show?  Fill out the form below:\n\n&nbsp\;\n\nLoading...
ATTACH;FMTTYPE=image/jpeg:https://www.sealcoveautomuseum.org/wp-content/up
 loads/2018/12/CarBQue_header2019.jpg
CATEGORIES:Car Show,Food,Music
LOCATION:Seal Cove Auto Museum\, 1414 Tremont Road\, Seal Cove\, Maine\, 04
 674\, Mount Desert Island\, United States
GEO:44.3053826;-68.4044376
X-APPLE-STRUCTURED-LOCATION;VALUE=URI;X-ADDRESS=1414 Tremont Road\, Seal Co
 ve\, Maine\, 04674\, Mount Desert Island\, United States;X-APPLE-RADIUS=10
 0;X-TITLE=Seal Cove Auto Museum:geo:44.3053826,-68.4044376
END:VEVENT
BEGIN:VTIMEZONE
TZID:America/New_York
X-LIC-LOCATION:America/New_York
BEGIN:DAYLIGHT
DTSTART:20190310T030000
TZOFFSETFROM:-0500
TZOFFSETTO:-0400
TZNAME:EDT
END:DAYLIGHT
END:VTIMEZONE
END:VCALENDAR