BEGIN:VCALENDAR
VERSION:2.0
PRODID:-//wp-events-plugin.com//7.2.3.1//EN
TZID:America/New_York
X-WR-TIMEZONE:America/New_York
BEGIN:VEVENT
UID:88@sealcoveautomuseum.org
DTSTART:20180628T160000Z
DTEND:20180628T210000Z
DTSTAMP:20180625T175953Z
URL:https://www.sealcoveautomuseum.org/events/car-b-que/
SUMMARY:CAR-B-QUE
DESCRIPTION:Car show\, barbeque\, and live music\, all wrapped up into one 
 super-fun event!\nDanny Harper and a dance floor will be set up inside ami
 d the museum's Brass Era automobiles\, with cash bars. Food trucks under t
 ents at the front of the museum building will provide delicious barbeque a
 nd seafood. Rain or Shine. Held in conjunction with the Hemmings Motor New
 s Great Race visit earlier in the day.\nFeaturing:\nDanny Harper\n\n4pm - 
 9pm:\nVisiting Vintage Cars on Display\n5pm - 9pm:\nBarbeque\n(available f
 or purchase)\nCash Bar\n7pm - 9pm:\nLive Concert featuring Danny Harper\n&
 nbsp\;\n\n\n\nTicket Information\n&nbsp\;\nTickets $20\nKids 5 and Under F
 ree\nBuy a combo ticket for the Car-B-Que and the Great Race visit\nto the
  Seal Cove Auto Museum earlier in the day and save!\nCar-B-Que-Great Race 
 Combo Ticket: $25 ($30 value)\nDay-of tickets will be cash-only.\nTickets 
 may be purchased in advance via credit card or check.\n\n\n\n\nGet Involve
 d!\nVolunteer for the Car-B-Que and/or Great Race visit and receive\na sho
 rt-sleeved polo shirt with the Car-B-Que logo\, and free admission to both
  events!\nTo learn more about volunteering\, please contact Jenna at jenna
 @sealcoveautomuseum.org or 207-244-9242.\nInterested in sponsoring the Ca
 r-B-Que and Great Race visit?\nLearn more at the link below!\n\n&nbsp\;\n\
 n\nPlease Note:\nParking will be off-site during the Great Race earlier in
  the day\, from 11:00am - 3:15pm. \nShuttles will be provided during that 
 time.\n&nbsp\;\n\n\nThank you to our Great Race &amp\; Car-B-Que Sponsors:
 \n\n\n\nFood available to purchase from:\n\n&nbsp\;\n\n\n\n&nbsp\;
ATTACH;FMTTYPE=image/jpeg:https://www.sealcoveautomuseum.org/wp-content/up
 loads/2017/11/CarBQue_header.jpg
LOCATION:Seal Cove Auto Museum\, 1414 Tremont Road\, Seal Cove\, Maine\, 04
 674\, Mount Desert Island\, United States
GEO:44.3053826;-68.4044376
X-APPLE-STRUCTURED-LOCATION;VALUE=URI;X-ADDRESS=1414 Tremont Road\, Seal Co
 ve\, Maine\, 04674\, Mount Desert Island\, United States;X-APPLE-RADIUS=10
 0;X-TITLE=Seal Cove Auto Museum:geo:44.3053826,-68.4044376
END:VEVENT
END:VCALENDAR