BEGIN:VCALENDAR
VERSION:2.0
PRODID:-//wp-events-plugin.com//7.2.3.1//EN
TZID:America/New_York
X-WR-TIMEZONE:America/New_York
BEGIN:VEVENT
UID:93@sealcoveautomuseum.org
DTSTART:20180721T090000Z
DTEND:20180721T120000Z
DTSTAMP:20180217T032819Z
URL:https://www.sealcoveautomuseum.org/events/cars-coffee-2/
SUMMARY:CARS & COFFEE: CORVETTES
DESCRIPTION:An opportunity for drivers to show off their own special cars\,
  and for all auto enthusiasts to congregate to kick tires\, peer under hoo
 ds\, and enjoy coffee with their fellow car-lovers. All are welcome\, with
  or without their own antique or vintage automobile.\n\nThe July Cars & Co
 ffee will feature Corvettes! You are encouraged to bring an early Corvette
  of your own in the morning\, or any other antique or classic car if you d
 on’t have a Corvette but would like to drive over your favorite old car.
  The Cars & Coffee in the morning will be followed by kids' activities in 
 the afternoon\, including rides in the museum’s cars\, weather permittin
 g.
ATTACH;FMTTYPE=image/jpeg:https://www.sealcoveautomuseum.org/wp-content/up
 loads/2018/01/CC_JulCorvettes_graphic.jpg
CATEGORIES:Cars &amp; Coffee
LOCATION:Seal Cove Auto Museum\, 1414 Tremont Road\, Seal Cove\, Maine\, 04
 674\, Mount Desert Island\, United States
GEO:44.3053826;-68.4044376
X-APPLE-STRUCTURED-LOCATION;VALUE=URI;X-ADDRESS=1414 Tremont Road\, Seal Co
 ve\, Maine\, 04674\, Mount Desert Island\, United States;X-APPLE-RADIUS=10
 0;X-TITLE=Seal Cove Auto Museum:geo:44.3053826,-68.4044376
END:VEVENT
END:VCALENDAR