BEGIN:VCALENDAR
VERSION:2.0
PRODID:-//wp-events-plugin.com//7.2.3.1//EN
TZID:America/New_York
X-WR-TIMEZONE:America/New_York
BEGIN:VEVENT
UID:95@sealcoveautomuseum.org
DTSTART:20180915T090000Z
DTEND:20180915T120000Z
DTSTAMP:20180913T202205Z
URL:https://www.sealcoveautomuseum.org/events/cars-coffee-4/
SUMMARY:CARS & COFFEE: CARS & CANINES
DESCRIPTION:An opportunity for drivers to show off their own special cars\,
  and for all auto enthusiasts to congregate to kick tires\, peer under hoo
 ds\, and enjoy coffee with their fellow car-lovers. All are welcome\, with
  or without their own antique or vintage automobile. Or\, bring your favor
 ite four-footed friends\, as the September Cars &amp\; Coffee will feature
  canines!\n\nSpecial Guests:\n\n 	The SPCA will be there with some of thei
 r adoptable dogs.\n 	The Hancock County Sheriff Department will attend wit
 h their K9 unit.\n\nIn addition\, there will be a doggie-photo booth set 
 up\, for photos of your pet in our 1928 Ford Huckster!
ATTACH;FMTTYPE=image/jpeg:https://www.sealcoveautomuseum.org/wp-content/up
 loads/2018/01/CC_SepSPCA_graphic.jpg
CATEGORIES:Cars &amp; Coffee
LOCATION:Seal Cove Auto Museum\, 1414 Tremont Road\, Seal Cove\, Maine\, 04
 674\, Mount Desert Island\, United States
GEO:44.3053826;-68.4044376
X-APPLE-STRUCTURED-LOCATION;VALUE=URI;X-ADDRESS=1414 Tremont Road\, Seal Co
 ve\, Maine\, 04674\, Mount Desert Island\, United States;X-APPLE-RADIUS=10
 0;X-TITLE=Seal Cove Auto Museum:geo:44.3053826,-68.4044376
END:VEVENT
END:VCALENDAR