BEGIN:VCALENDAR
VERSION:2.0
PRODID:-//wp-events-plugin.com//7.2.3.1//EN
TZID:America/New_York
X-WR-TIMEZONE:America/New_York
BEGIN:VEVENT
UID:111@sealcoveautomuseum.org
DTSTART:20180628T110000Z
DTEND:20180628T210000Z
DTSTAMP:20180628T011307Z
URL:https://www.sealcoveautomuseum.org/events/great-race-car-b-que-tickets
 /
SUMMARY:GREAT RACE & CAR-B-QUE: GET TICKETS!
DESCRIPTION:SCHEDULE:\n\n\n12:00pm - 3:15pm:\nHEMMINGS MOTOR NEWS 2018 GREA
 T RACE\nAn intense competition for vintage cars\, this long-distance\, tim
 e-speed-endurance rally tests the abilities of 150 racers and their pre-19
 72 cars. The public is invited to visit the Auto Museum to see the cars ar
 rive and meet the race teams.\n11am: \nShuttles begin (View/Download Par
 king Map)\n12:00pm - 12:15: \nOpening Ceremonies\n12:15pm - 3:15: \nCars
  will arrive throughout this period at one-minute intervals\n&nbsp\;\n\n\n
 4pm - 9pm:\nCAR-B-QUE\nCar show\, barbeque\, and live music\, all wrapped 
 up into one super-fun event!\n4pm - 9pm:\nVintage Cars on Display\n5pm - 9
 pm:\nBarbeque\n(available for purchase)\nCash Bar\n7pm - 9pm: \nLive Conc
 ert\nFeaturing:\nDanny Harper\n\n&nbsp\;\n\n\nPlease Note:\nParking will b
 e off-site during the Great Race\, from 11:00pm - 3:15pm. \nThere will be 
 no parking and no drops offs at the museum during this time.\nShuttles wil
 l be provided\, beginning at 11am.\nView/Download Parking Map\n\n\n\nAdvan
 ce ticket sales over the phone and online sales will end on Wednesday\, Ju
 ne 27\, at 5pm. Great Race and Combo (Great Race and Car-B-Que) tickets ma
 y be purchased the day of the event at the remote parking lots (cash/check
  only). Car-B-Que tickets may be purchased the day of the event at the mus
 eum. (Note: if you are interested in attending only the Car-B-Que\, you w
 ill not be able to access the museum\, except via shuttle from remote park
 ing lots\, until 3:30pm.)\n\n\n\n\n&nbsp\;\n\n&nbsp\;
ATTACH;FMTTYPE=image/jpeg:https://www.sealcoveautomuseum.org/wp-content/up
 loads/2018/04/CarBQue_GR_header.jpg
LOCATION:Seal Cove Auto Museum\, 1414 Tremont Road\, Seal Cove\, Maine\, 04
 674\, Mount Desert Island\, United States
GEO:44.3053826;-68.4044376
X-APPLE-STRUCTURED-LOCATION;VALUE=URI;X-ADDRESS=1414 Tremont Road\, Seal Co
 ve\, Maine\, 04674\, Mount Desert Island\, United States;X-APPLE-RADIUS=10
 0;X-TITLE=Seal Cove Auto Museum:geo:44.3053826,-68.4044376
END:VEVENT
END:VCALENDAR