BEGIN:VCALENDAR
VERSION:2.0
PRODID:-//wp-events-plugin.com//7.2.3.1//EN
TZID:America/New_York
X-WR-TIMEZONE:America/New_York
BEGIN:VEVENT
UID:87@sealcoveautomuseum.org
DTSTART:20180628T120000Z
DTEND:20180628T153000Z
DTSTAMP:20180609T015320Z
URL:https://www.sealcoveautomuseum.org/events/great-race-visit/
SUMMARY:HEMMINGS MOTOR NEWS GREAT RACE VISIT
DESCRIPTION:[caption id="attachment_2321" align="alignleft" width="250"] ww
 w.greatrace.com[/caption]\n\nTen days\, 17 cities\, and over 2\,000 miles\
 ; the 2018 Hemmings Motor News Great Race\, presented by Hagerty\, is an 
 intense competition for vintage cars\, and it is coming to the Seal Cove A
 uto Museum! In its 35th year\, this long-distance\, time-speed-endurance r
 ally tests the abilities of 150 racers and their pre-1972 cars. The Seal C
 ove Auto Museum is one of the stops on the route. The public is invited to
  visit the Auto Museum to see the cars arrive\, meet the race teams\, and 
 see our new exhibit Selling Lifestyle and Leisure: Art\, Advertising and t
 he Automobile.\n\nA recounting of the journey will be broadcast on the Vel
 ocity channel. Check out the 2017 race from Jacksonville\, FL to Traverse 
 City\, MI.\n\nA Car-B-Que will be held at the museum that evening\, in con
 junction with the Great Race visit.\n\n&nbsp\;\n\n\n\n\n\nSchedule\n\n11am
 : \nShuttles begin*\n\n12:00pm - 12:15pm: \nOpening ceremonies\n\n12:15p
 m - 3:15pm: \nVintage cars arrive throughout this period at one-minute int
 ervals\n\n\n&nbsp\;\n\n\n\nTicket Information\nTickets required for museum
  admission and shuttle.*\nTickets $10\nKids 5 and Under Free\nBuy a combo 
 ticket for the Great Race and the Car-B-Que later in the day and save!\nC
 ar-B-Que-Great Race Combo Ticket: $25 ($30 value)\nDay-of tickets will be 
 cash-only.\nTickets may be purchased in advance via credit card or check.\
 n\n&nbsp\;\n\n\nGet Involved!\nVolunteer for the Car-B-Que and/or Great Ra
 ce visit and receive\na short-sleeved polo shirt with the Car-B-Que logo\,
  and free admission to both events!\nTo learn more about volunteering\, pl
 ease contact Jenna at jenna@sealcoveautomuseum.org or 207-244-9242.\nInter
 ested in sponsoring the Car-B-Que and Great Race visit?\nLearn more at th
 e link below!\n\n&nbsp\;\n\n\nPlease Note:\n*ALL PARKING WILL BE OFF-SITE.
 \nThere will be no parking\, and no drop-off area\, at the museum.\nShuttl
 es will be provided\, beginning at 11am.\nView/Download Parking Map\nIf yo
 u have mobility limitations\, please contact the museum at 244-9242\nso th
 at we can best accommodate you and your needs.\n&nbsp\;\n\n\nThank you to 
 our Great Race &amp\; Car-B-Que Sponsors:\n\n\n\nFood available to purchas
 e from:\n\n&nbsp\;\n\n\n\n&nbsp\;
ATTACH;FMTTYPE=image/jpeg:https://www.sealcoveautomuseum.org/wp-content/up
 loads/2017/11/GR2017_car.jpg
LOCATION:Seal Cove Auto Museum\, 1414 Tremont Road\, Seal Cove\, Maine\, 04
 674\, Mount Desert Island\, United States
GEO:44.3053826;-68.4044376
X-APPLE-STRUCTURED-LOCATION;VALUE=URI;X-ADDRESS=1414 Tremont Road\, Seal Co
 ve\, Maine\, 04674\, Mount Desert Island\, United States;X-APPLE-RADIUS=10
 0;X-TITLE=Seal Cove Auto Museum:geo:44.3053826,-68.4044376
END:VEVENT
END:VCALENDAR