BEGIN:VCALENDAR
VERSION:2.0
PRODID:-//wp-events-plugin.com//7.2.3.1//EN
TZID:America/New_York
X-WR-TIMEZONE:America/New_York
BEGIN:VEVENT
UID:110@sealcoveautomuseum.org
DTSTART:20181018T170000Z
DTEND:20181018T190000Z
DTSTAMP:20180914T231653Z
URL:https://www.sealcoveautomuseum.org/events/history-happy-hour/
SUMMARY:HISTORY HAPPY HOUR
DESCRIPTION:The “History Happy Hour” series is geared towards members o
 f the Seal Cove Auto Museum and the MDI Historical Society. These events 
 provide an opportunity for members to mingle with friends\, neighbors\, an
 d fellow history buffs\, imbibe local spirits\, and learn a little somethi
 ng new. Nonmembers have the opportunity to join both the Seal Cove Auto M
 useum and MDIHS at a special dual membership rate of $50.\n\nThis particu
 lar History Happy Hour will feature a ghost tour in downtown Bar Harbor. M
 ore details to follow!
ATTACH;FMTTYPE=image/jpeg:https://www.sealcoveautomuseum.org/wp-content/up
 loads/2018/01/HHH_header_red.jpg
CATEGORIES:History Happy Hour
END:VEVENT
END:VCALENDAR