BEGIN:VCALENDAR
VERSION:2.0
PRODID:-//wp-events-plugin.com//7.2.3.1//EN
TZID:America/New_York
X-WR-TIMEZONE:America/New_York
BEGIN:VEVENT
UID:104@sealcoveautomuseum.org
DTSTART:20180721T120000Z
DTEND:20180721T160000Z
DTSTAMP:20180217T031722Z
URL:https://www.sealcoveautomuseum.org/events/kids-day-3/
SUMMARY:KIDS DAY
DESCRIPTION:\n	Games\n\n	Remote controlled car races\n\n	Demonstrations\n\n
 	Noise-making & explosions\n\n	Tasty treats to eat\n\n	Rides in antique au
 tos\, weather permitting\n\n	Kids 12 and under get in free!\n\n\n
ATTACH;FMTTYPE=image/jpeg:https://www.sealcoveautomuseum.org/wp-content/up
 loads/2017/04/Tix_FordDepotHack_Kids.jpg
LOCATION:Seal Cove Auto Museum\, 1414 Tremont Road\, Seal Cove\, Maine\, 04
 674\, Mount Desert Island\, United States
GEO:44.3053826;-68.4044376
X-APPLE-STRUCTURED-LOCATION;VALUE=URI;X-ADDRESS=1414 Tremont Road\, Seal Co
 ve\, Maine\, 04674\, Mount Desert Island\, United States;X-APPLE-RADIUS=10
 0;X-TITLE=Seal Cove Auto Museum:geo:44.3053826,-68.4044376
END:VEVENT
END:VCALENDAR