BEGIN:VCALENDAR
VERSION:2.0
PRODID:-//wp-events-plugin.com//7.2.3.1//EN
TZID:America/New_York
X-WR-TIMEZONE:America/New_York
BEGIN:VEVENT
UID:130@sealcoveautomuseum.org
DTSTART:20190427T100000Z
DTEND:20190427T140000Z
DTSTAMP:20190107T225914Z
URL:https://www.sealcoveautomuseum.org/events/lego-day-2/
SUMMARY:LEGO DAY
DESCRIPTION:Kids of all ages are invited to come and be inspired by the uni
 que collection of the earliest cars and motorcycles at the Auto Museum\, a
 nd then create their own automobile inspiration with the museum's Lego® b
 rand blocks.   Free and open to the public.\n\nThe Legos® provided at
  the Seal Cove Auto Museum will remain the property of the museum\; partic
 ipants will not be able to take their creations home. This is event is not
  affiliated with or sponsored by Lego®.
ATTACH;FMTTYPE=image/jpeg:https://www.sealcoveautomuseum.org/wp-content/up
 loads/2018/02/LegoDay2018_WPgraphic.jpg
CATEGORIES:Art &amp; Creativity Series
LOCATION:Seal Cove Auto Museum\, 1414 Tremont Road\, Seal Cove\, Maine\, 04
 674\, Mount Desert Island\, United States
GEO:44.3053826;-68.4044376
X-APPLE-STRUCTURED-LOCATION;VALUE=URI;X-ADDRESS=1414 Tremont Road\, Seal Co
 ve\, Maine\, 04674\, Mount Desert Island\, United States;X-APPLE-RADIUS=10
 0;X-TITLE=Seal Cove Auto Museum:geo:44.3053826,-68.4044376
END:VEVENT
END:VCALENDAR