BEGIN:VCALENDAR
VERSION:2.0
PRODID:-//wp-events-plugin.com//7.2.3.1//EN
TZID:America/New_York
X-WR-TIMEZONE:America/New_York
BEGIN:VEVENT
UID:90@sealcoveautomuseum.org
DTSTART:20180729T180000Z
DTEND:20180729T213000Z
DTSTAMP:20180731T191202Z
URL:https://www.sealcoveautomuseum.org/events/murder-mystery-dinner-2/
SUMMARY:MURDER MYSTERY DINNER
DESCRIPTION:Get Your Tickets!\n\nIt’s the summer of 1932 on Mount Desert 
 Island\, Maine. Prohibition is in effect and the tourists are thirsty. Car
 s are faster and bank robbers are taking the Midwest by storm. The police 
 are out gunned\, and the newspapers are poking fun. J. Edgar Hoover has de
 cided Dillinger is public enemy number one.\n\nWinston Peabody\, a wealthy
  manufacturer of automobiles\, has recently come to Bar Harbor for vacatio
 n with his wife. Winston plans to launch an advertising campaign for his n
 ew car models and has invited two\, competing illustrators to visit with h
 im and his wife while they are in Bar Harbor. But their plans go awry when
  a murder occurs!\n\nThe Seal Cove Auto Museum presents The Fine Art of Mu
 rder\, an original murder mystery by authors/playwrights Robert and Robin 
 Lawton. The events of this play will unfold before your eyes during the co
 urse of the evening\, and it is up to YOU to follow the clues and determin
 e the killer\, while enjoying dinner among the Museum’s collection of el
 egant antique cars.\n\nThe evening will include a seated dinner\, our sign
 ature Rusticator Rum punch cocktail\, prizes for those who determine the k
 iller\, and commemorative wine glasses to take home. Period costumes encou
 raged but optional. $100 for members\, $125 for non-members. You may purch
 ase your tickets below\, or call 207-244-9242 to reserve your space now!\n
 \n\n\n&nbsp\;\nGet a sneak peak at the characters in this Prelude to The F
 ine Art of Murder\, a three-part radio broadcast miniseries!\n&nbsp\;\nPar
 t One:\nhttps://www.youtube.com/watch?v=94YtdAIv3o0&amp\;feature=youtu.be&
 amp\;rel=0\nPart Two:\nhttps://www.youtube.com/watch?v=GBDVRDKKoSc&amp\;fe
 ature=youtu.be&amp\;rel=0\nStay tuned for the final part of the miniseries
 !\n\n\n\n\n
ATTACH;FMTTYPE=image/jpeg:https://www.sealcoveautomuseum.org/wp-content/up
 loads/2018/01/MurderMysteryPicnic.jpg
LOCATION:Seal Cove Auto Museum\, 1414 Tremont Road\, Seal Cove\, Maine\, 04
 674\, Mount Desert Island\, United States
GEO:44.3053826;-68.4044376
X-APPLE-STRUCTURED-LOCATION;VALUE=URI;X-ADDRESS=1414 Tremont Road\, Seal Co
 ve\, Maine\, 04674\, Mount Desert Island\, United States;X-APPLE-RADIUS=10
 0;X-TITLE=Seal Cove Auto Museum:geo:44.3053826,-68.4044376
END:VEVENT
END:VCALENDAR