BEGIN:VCALENDAR
VERSION:2.0
PRODID:-//wp-events-plugin.com//7.2.3.1//EN
TZID:America/New_York
X-WR-TIMEZONE:America/New_York
BEGIN:VEVENT
UID:131@sealcoveautomuseum.org
DTSTART:20190415T140000Z
DTEND:20190415T160000Z
DTSTAMP:20190313T201557Z
URL:https://www.sealcoveautomuseum.org/events/senior-mixer-3/
SUMMARY:SENIOR MIXER
DESCRIPTION:Cohosted by Birch Bay Retirement Village\, Parker Ridge Retirem
 ent Community\, and Friends in Action. The gathering will feature a presen
 tation on the Auto Museum's  Selling Life &amp\; Leisure\; Art\, Advertis
 ing and the Automobile exhibit.\n\n 	Tours of the museum’s collection of
  early automobiles &amp\; motorcycles from the Brass Era\n 	Hors d'oeuvres
  &amp\; Desserts will be provided by chefs from the three co-hosting organ
 izations\n 	Transportation to the event may be available by calling Friend
 s in Action at 664-6016\n\nAdmission free and open to all seniors. RSVP by
  calling Susanne Hopkins at 288-8014 x 5211.
ATTACH;FMTTYPE=image/jpeg:https://www.sealcoveautomuseum.org/wp-content/up
 loads/2019/01/AcadiaSeniorCollege_Oct2014.jpg
LOCATION:Seal Cove Auto Museum\, 1414 Tremont Road\, Seal Cove\, Maine\, 04
 674\, Mount Desert Island\, United States
GEO:44.3053826;-68.4044376
X-APPLE-STRUCTURED-LOCATION;VALUE=URI;X-ADDRESS=1414 Tremont Road\, Seal Co
 ve\, Maine\, 04674\, Mount Desert Island\, United States;X-APPLE-RADIUS=10
 0;X-TITLE=Seal Cove Auto Museum:geo:44.3053826,-68.4044376
END:VEVENT
END:VCALENDAR