BEGIN:VCALENDAR
VERSION:2.0
PRODID:-//wp-events-plugin.com//7.2.3.1//EN
TZID:America/New_York
X-WR-TIMEZONE:America/New_York
BEGIN:VEVENT
UID:113@sealcoveautomuseum.org
DTSTART:20180710T130000Z
DTEND:20180710T150000Z
DTSTAMP:20180612T223801Z
URL:https://www.sealcoveautomuseum.org/events/strawberry-festival/
SUMMARY:STRAWBERRY FESTIVAL
DESCRIPTION:A tradition going back over 40 years! Enjoy delicious strawberr
 y shortcake topped by clouds of freshly whipped cream. The recipe is the s
 ame one used at the first Strawberry Festival in 1975. Cohosted by the Mou
 nt Desert Island Historical Society. Includes lemonade and iced tea as wel
 l.
ATTACH;FMTTYPE=image/jpeg:https://www.sealcoveautomuseum.org/wp-content/up
 loads/2018/06/Strawberry-Shortcake.jpg
LOCATION:Somesville Fire Station\, 1157 Main Street\, Mount Desert\, Maine\
 , 04660\, United States
X-APPLE-STRUCTURED-LOCATION;VALUE=URI;X-ADDRESS=1157 Main Street\, Mount De
 sert\, Maine\, 04660\, United States;X-APPLE-RADIUS=100;X-TITLE=Somesville
  Fire Station:geo:0,0
END:VEVENT
END:VCALENDAR