BEGIN:VCALENDAR
VERSION:2.0
PRODID:-//wp-events-plugin.com//7.2.3.1//EN
TZID:America/New_York
X-WR-TIMEZONE:America/New_York
BEGIN:VEVENT
UID:105@sealcoveautomuseum.org
DTSTART:20180818T130000Z
DTEND:20180818T160000Z
DTSTAMP:20180815T015554Z
URL:https://www.sealcoveautomuseum.org/events/tom-cotter-barn-find-hunter-
 author/
SUMMARY:TOM COTTER: "BARN FIND HUNTER" & AUTHOR
DESCRIPTION:Tom Cotter\, author and Hagerty's Barn Find Hunter\, will be at
  the museum for the day with his Cunningham C-3.  He will gve a presentati
 on at 2pm\, and will have some of his books available throughout the after
 noon as well.\n&nbsp\;\n\nMr. Cotter spent much of his life digging in bar
 ns and garages in search of buried automotive treasure. A former contribut
 or to Road & Track and The New York Times\, Tom Cotter is the author of si
 xteen automotive books\, many on the subject of automotive archeology. The
  most recent\, Motor City Barn Finds\, details ten days of searching for o
 ld cars in Detroit\, Michigan. His books have led to a Youtube video serie
 s called Barn Find Hunter\, sponsored by Hagerty Insurance and Shell. Prio
 r to becoming a full-time writer\, Cotter was founder of an automotive and
  motorsport PR and marketing agency called Cotter Group. The agency manage
 d many of the largest sponsors in all forms of racing including NASCAR\, I
 ndyCar/CART\, SCCA\, NHRA and vintage racing. He is a contributing editor 
 for Vintage Motorsport Magazine and regularly contributes to Hagerty Magaz
 ine. He lives in Davidson\, NC.
ATTACH;FMTTYPE=image/jpeg:https://www.sealcoveautomuseum.org/wp-content/up
 loads/2018/03/TomCotter_Cunningham.jpg
LOCATION:Seal Cove Auto Museum\, 1414 Tremont Road\, Seal Cove\, Maine\, 04
 674\, Mount Desert Island\, United States
GEO:44.3053826;-68.4044376
X-APPLE-STRUCTURED-LOCATION;VALUE=URI;X-ADDRESS=1414 Tremont Road\, Seal Co
 ve\, Maine\, 04674\, Mount Desert Island\, United States;X-APPLE-RADIUS=10
 0;X-TITLE=Seal Cove Auto Museum:geo:44.3053826,-68.4044376
END:VEVENT
END:VCALENDAR